BEGIN:VCALENDAR
VERSION:2.0
PRODID:-//Humane Society Silicon Valley - ECPv6.15.18//NONSGML v1.0//EN
CALSCALE:GREGORIAN
METHOD:PUBLISH
X-ORIGINAL-URL:https://www.hssv.org
X-WR-CALDESC:Events for Humane Society Silicon Valley
REFRESH-INTERVAL;VALUE=DURATION:PT1H
X-Robots-Tag:noindex
X-PUBLISHED-TTL:PT1H
BEGIN:VTIMEZONE
TZID:America/Los_Angeles
BEGIN:DAYLIGHT
TZOFFSETFROM:-0800
TZOFFSETTO:-0700
TZNAME:PDT
DTSTART:20250309T100000
END:DAYLIGHT
BEGIN:STANDARD
TZOFFSETFROM:-0700
TZOFFSETTO:-0800
TZNAME:PST
DTSTART:20251102T090000
END:STANDARD
BEGIN:DAYLIGHT
TZOFFSETFROM:-0800
TZOFFSETTO:-0700
TZNAME:PDT
DTSTART:20260308T100000
END:DAYLIGHT
BEGIN:STANDARD
TZOFFSETFROM:-0700
TZOFFSETTO:-0800
TZNAME:PST
DTSTART:20261101T090000
END:STANDARD
BEGIN:DAYLIGHT
TZOFFSETFROM:-0800
TZOFFSETTO:-0700
TZNAME:PDT
DTSTART:20270314T100000
END:DAYLIGHT
BEGIN:STANDARD
TZOFFSETFROM:-0700
TZOFFSETTO:-0800
TZNAME:PST
DTSTART:20271107T090000
END:STANDARD
END:VTIMEZONE
BEGIN:VEVENT
DTSTART;TZID=America/Los_Angeles:20260111T110000
DTEND;TZID=America/Los_Angeles:20260111T110000
DTSTAMP:20260425T083923
CREATED:20251219T234206Z
LAST-MODIFIED:20260108T060752Z
UID:325232-1768129200-1768129200@www.hssv.org
SUMMARY:Puppy Socialization LEVEL 2 - Older Puppies (In-Person) - Starting 01/11/26 at 11:00am
DESCRIPTION:Class Fee: $100 \nClass will run for 3 weekly sessions\, meeting on the same day and time of the week. This class starts on Sunday\, January 11th from 11:00 – 11:50 AM. The last class in this session will be on January 25th. \nHave you already attended one of our 3-Week Puppy Socialization classes\, but your pup is now too old for these classes? Looking to continue your older puppy’s socialization while also learning about the challenges of adolescence? “Puppy Socialization – LEVEL 2 Older Puppies” classes are the answer! In this 3-week course\, your pup will continue to learn to socialize appropriately with other dogs\, while you learn how to keep their attention in distracting environments\, while navigating the challenges of puppy adolescence. Topics will include distraction recalls\, emergency handling\, and increased focus on you instead of passing distractions. \nRegister Here
URL:https://www.hssv.org/event/puppy-socialization-level-2-older-puppies-in-person-starting-01-11-26-at-1100am-2/
LOCATION:Humane Society Silicon Valley\, 901 Ames Ave\, Milpitas\, CA\, 95035\, United States
CATEGORIES:Intermediate Classes,Training
ATTACH;FMTTYPE=image/png:https://www.hssv.org/wp-content/uploads/2025/05/puppy-classes.png
ORGANIZER;CN="Dog Training at HSSV":MAILTO:dogtraining@hssv.org
END:VEVENT
END:VCALENDAR