BEGIN:VCALENDAR
VERSION:2.0
PRODID:-//Humane Society Silicon Valley - ECPv6.15.18//NONSGML v1.0//EN
CALSCALE:GREGORIAN
METHOD:PUBLISH
X-ORIGINAL-URL:https://www.hssv.org
X-WR-CALDESC:Events for Humane Society Silicon Valley
REFRESH-INTERVAL;VALUE=DURATION:PT1H
X-Robots-Tag:noindex
X-PUBLISHED-TTL:PT1H
BEGIN:VTIMEZONE
TZID:America/Los_Angeles
BEGIN:DAYLIGHT
TZOFFSETFROM:-0800
TZOFFSETTO:-0700
TZNAME:PDT
DTSTART:20240310T100000
END:DAYLIGHT
BEGIN:STANDARD
TZOFFSETFROM:-0700
TZOFFSETTO:-0800
TZNAME:PST
DTSTART:20241103T090000
END:STANDARD
BEGIN:DAYLIGHT
TZOFFSETFROM:-0800
TZOFFSETTO:-0700
TZNAME:PDT
DTSTART:20250309T100000
END:DAYLIGHT
BEGIN:STANDARD
TZOFFSETFROM:-0700
TZOFFSETTO:-0800
TZNAME:PST
DTSTART:20251102T090000
END:STANDARD
BEGIN:DAYLIGHT
TZOFFSETFROM:-0800
TZOFFSETTO:-0700
TZNAME:PDT
DTSTART:20260308T100000
END:DAYLIGHT
BEGIN:STANDARD
TZOFFSETFROM:-0700
TZOFFSETTO:-0800
TZNAME:PST
DTSTART:20261101T090000
END:STANDARD
END:VTIMEZONE
BEGIN:VEVENT
DTSTART;TZID=America/Los_Angeles:20251214T123000
DTEND;TZID=America/Los_Angeles:20251214T123000
DTSTAMP:20260425T135757
CREATED:20251125T181909Z
LAST-MODIFIED:20251125T183030Z
UID:318812-1765715400-1765715400@www.hssv.org
SUMMARY:Puppy Socialization LEVEL 2 - Older Puppies (2-week\, In-Person Class) - Starting 12/14/25 at 12:30 PM
DESCRIPTION:Have you already attended one of our 3-Week Puppy Socialization clases\, but your pup is now too old for these classes? Looking to continue your older puppy’s socialization while also learning about the challenges of adolescence? “Puppy Socialization – LEVEL 2 Older Puppies” classes are the answer! In this 3-week course\, your pup will continue to learn to socialize appropriately with other dogs\, while you learn how to keep their attention in distracting environments\, while navigating the challenges of puppy adolescence. Topics will include distraction recalls\, emergency handling\, and increased focus on you instead of passing distractions. \nClass will run for TWO weekly sessions\, meeting on the same day and time of the week. This class starts on Sunday\, December 14th from 12:30 – 1:20 pm. The last class in this session will be on December 21st.
URL:https://www.hssv.org/event/puppy-socialization-level-2-older-puppies-2-week-in-person-class-starting-12-14-25-at-1230-pm/
LOCATION:Humane Society Silicon Valley\, 901 Ames Ave\, Milpitas\, CA\, 95035\, United States
CATEGORIES:Training
ATTACH;FMTTYPE=image/png:https://www.hssv.org/wp-content/uploads/2025/10/puppy-classes-Rub58L-VKoRuw-bZ2hdg.png
ORGANIZER;CN="Humane Society Silicon Valley":MAILTO:webmaster@hssv.org
END:VEVENT
END:VCALENDAR