BEGIN:VCALENDAR
VERSION:2.0
PRODID:-//Humane Society Silicon Valley - ECPv6.15.18//NONSGML v1.0//EN
CALSCALE:GREGORIAN
METHOD:PUBLISH
X-ORIGINAL-URL:https://www.hssv.org
X-WR-CALDESC:Events for Humane Society Silicon Valley
REFRESH-INTERVAL;VALUE=DURATION:PT1H
X-Robots-Tag:noindex
X-PUBLISHED-TTL:PT1H
BEGIN:VTIMEZONE
TZID:UTC
BEGIN:STANDARD
TZOFFSETFROM:+0000
TZOFFSETTO:+0000
TZNAME:UTC
DTSTART:20250101T000000
END:STANDARD
END:VTIMEZONE
BEGIN:VEVENT
DTSTART;TZID=UTC:20260315T100000
DTEND;TZID=UTC:20260315T140000
DTSTAMP:20260421T044246
CREATED:20250709T003850Z
LAST-MODIFIED:20260226T174958Z
UID:274246-1773568800-1773583200@www.hssv.org
SUMMARY:Bunny Paws at Santana Row with HSSV 3/15/26
DESCRIPTION:HSSV will be at Santana Row with the Easter Bunny! Bring your pet to Park Valencia (in front of Maggiano’s) in Santana Row for a photo with the Easter Bunny on Sunday\, March 15th\, from 10 am to 2 pm. All proceeds will benefit Humane Society Silicon Valley. Photos with your pet are a minimum donation of $10! Registration begins at 9:30 am.
URL:https://www.hssv.org/event/easter-bunny-at-santana-row-with-hssv-3-21-26/
LOCATION:Park Valencia\, Santana Row\, 377 Santana Row\, San Jose\, CA\, 95128\, United States
CATEGORIES:Community Events
ATTACH;FMTTYPE=image/jpeg:https://www.hssv.org/wp-content/uploads/2025/03/278019272_4904902122897644_44777772783529894_n.jpg
ORGANIZER;CN="Community Engagement":MAILTO:community.engagement@hssv.org
END:VEVENT
END:VCALENDAR