BEGIN:VCALENDAR
VERSION:2.0
PRODID:-//Humane Society Silicon Valley - ECPv6.15.18//NONSGML v1.0//EN
CALSCALE:GREGORIAN
METHOD:PUBLISH
X-ORIGINAL-URL:https://www.hssv.org
X-WR-CALDESC:Events for Humane Society Silicon Valley
REFRESH-INTERVAL;VALUE=DURATION:PT1H
X-Robots-Tag:noindex
X-PUBLISHED-TTL:PT1H
BEGIN:VTIMEZONE
TZID:UTC
BEGIN:STANDARD
TZOFFSETFROM:+0000
TZOFFSETTO:+0000
TZNAME:UTC
DTSTART:20240101T000000
END:STANDARD
END:VTIMEZONE
BEGIN:VEVENT
DTSTART;VALUE=DATE:20250920
DTEND;VALUE=DATE:20250927
DTSTAMP:20260421T123429
CREATED:20250715T235354Z
LAST-MODIFIED:20250715T235616Z
UID:276588-1758326400-1758931199@www.hssv.org
SUMMARY:Lazy Dog HSSV Fundraiser 9/20 - 9/26
DESCRIPTION:We are excited to partner up with LazyDog Restaurants for a week-long fundraiser! \nShare code HSSV or show the flyer above to your server and 15% of your total bill will be donated back to HSSV! Ordering takeout? Just visit lazydogrestaurants.com\, select the participating location noted below\, and enter the coupon code at the bottom: \n\nSan Jose: 5305 Almaden Expy. San Jose\, CA 95118\nCupertino: 19359 Stevens Creek Blvd. Cupertino\, CA 95014\nNewark: 3100 Newpark Mall. Newark\, CA 94560\nSan Mateo: 2208 Bridgepointe Pkwy. San Mateo\, CA 94404
URL:https://www.hssv.org/event/lazy-dog-hssv-fundraiser-9-20-9-26/
LOCATION:CA
CATEGORIES:Community Events
ATTACH;FMTTYPE=image/jpeg:https://www.hssv.org/wp-content/uploads/2025/07/HSSV_Fundraiser_Flyer-September1.jpeg
END:VEVENT
END:VCALENDAR