BEGIN:VCALENDAR
VERSION:2.0
PRODID:-//Humane Society Silicon Valley - ECPv6.15.18//NONSGML v1.0//EN
CALSCALE:GREGORIAN
METHOD:PUBLISH
X-ORIGINAL-URL:https://www.hssv.org
X-WR-CALDESC:Events for Humane Society Silicon Valley
REFRESH-INTERVAL;VALUE=DURATION:PT1H
X-Robots-Tag:noindex
X-PUBLISHED-TTL:PT1H
BEGIN:VTIMEZONE
TZID:America/Los_Angeles
BEGIN:DAYLIGHT
TZOFFSETFROM:-0800
TZOFFSETTO:-0700
TZNAME:PDT
DTSTART:20250309T100000
END:DAYLIGHT
BEGIN:STANDARD
TZOFFSETFROM:-0700
TZOFFSETTO:-0800
TZNAME:PST
DTSTART:20251102T090000
END:STANDARD
BEGIN:DAYLIGHT
TZOFFSETFROM:-0800
TZOFFSETTO:-0700
TZNAME:PDT
DTSTART:20260308T100000
END:DAYLIGHT
BEGIN:STANDARD
TZOFFSETFROM:-0700
TZOFFSETTO:-0800
TZNAME:PST
DTSTART:20261101T090000
END:STANDARD
BEGIN:DAYLIGHT
TZOFFSETFROM:-0800
TZOFFSETTO:-0700
TZNAME:PDT
DTSTART:20270314T100000
END:DAYLIGHT
BEGIN:STANDARD
TZOFFSETFROM:-0700
TZOFFSETTO:-0800
TZNAME:PST
DTSTART:20271107T090000
END:STANDARD
END:VTIMEZONE
BEGIN:VEVENT
DTSTART;TZID=America/Los_Angeles:20260505T160000
DTEND;TZID=America/Los_Angeles:20260505T160000
DTSTAMP:20260421T061609
CREATED:20260414T192819Z
LAST-MODIFIED:20260414T192819Z
UID:372088-1777996800-1777996800@www.hssv.org
SUMMARY:Beginning Puppy Training (Hybrid) - Starting 05/05/26 at 4:00pm
DESCRIPTION:Class Fee: $200. This six-week class is open to all puppies 8 weeks to 8 months old. Our goal is to provide a safe\, fun learning environment that will provide you with the knowledge and skills you need to successfully work with your puppy!
URL:https://www.hssv.org/event/beginning-puppy-training-hybrid-starting-05-05-26-at-400pm/
CATEGORIES:Beginning Classes,Training
ATTACH;FMTTYPE=image/webp:https://www.hssv.org/wp-content/uploads/2026/04/a266f630-ffb0-11f0-a1b3-0affc2806fdb-1.webp
END:VEVENT
BEGIN:VEVENT
DTSTART;TZID=America/Los_Angeles:20260505T171500
DTEND;TZID=America/Los_Angeles:20260505T171500
DTSTAMP:20260421T061609
CREATED:20260414T204230Z
LAST-MODIFIED:20260414T204230Z
UID:372114-1778001300-1778001300@www.hssv.org
SUMMARY:Loose Leash Walking & Reliable Recall - 3 Week Class (In-Person) - Starting 05/05/26 at 5:15pm
DESCRIPTION:Class Fee: $100. Join us for this 3-week\, in-person class that will focus exclusively on the skills designed to teach your dog to walk politely on leash and to come when called even in the midst of distractions and temptations. Taking a “Beginning Level” class is a required pre-requisite.
URL:https://www.hssv.org/event/loose-leash-walking-reliable-recall-3-week-class-in-person-starting-05-05-26-at-515pm/
CATEGORIES:Intermediate Classes,Training
ATTACH;FMTTYPE=image/webp:https://www.hssv.org/wp-content/uploads/2026/04/91b010d6-1e57-11f1-b2d8-0a58a9feac02-3.webp
END:VEVENT
BEGIN:VEVENT
DTSTART;TZID=America/Los_Angeles:20260506T190000
DTEND;TZID=America/Los_Angeles:20260506T190000
DTSTAMP:20260421T061609
CREATED:20260409T201736Z
LAST-MODIFIED:20260409T201736Z
UID:370957-1778094000-1778094000@www.hssv.org
SUMMARY:Separation Anxiety (Online Only) - Starting 05/06/26 at 7:00pm
DESCRIPTION:Class Fee: $250. This class is designed specifically for dogs struggling with separation anxiety. This class will meet for four-weeks\, entirely online through Zoom. This class will help you better understand your dog’s anxiety\, and start building your dog’s tolerance to being home alone.
URL:https://www.hssv.org/event/separation-anxiety-online-only-starting-05-06-26-at-700pm/
CATEGORIES:Behavior Management Classes,Training
ATTACH;FMTTYPE=image/webp:https://www.hssv.org/wp-content/uploads/2026/04/4a718ddc-fbcd-11f0-a55a-0a58a9feac02-2.webp
END:VEVENT
BEGIN:VEVENT
DTSTART;TZID=America/Los_Angeles:20260510T140000
DTEND;TZID=America/Los_Angeles:20260510T140000
DTSTAMP:20260421T061609
CREATED:20260408T222402Z
LAST-MODIFIED:20260408T222402Z
UID:370672-1778421600-1778421600@www.hssv.org
SUMMARY:Beginning Puppy Training (Hybrid) - Starting 05/10/26 at 2:00pm
DESCRIPTION:Class Fee: $200. This six-week class is open to all puppies 8 weeks to 8 months old. Our goal is to provide a safe\, fun learning environment that will provide you with the knowledge and skills you need to successfully work with your puppy!
URL:https://www.hssv.org/event/beginning-puppy-training-hybrid-starting-05-10-26-at-200pm/
CATEGORIES:Beginning Classes,Training
ATTACH;FMTTYPE=image/webp:https://www.hssv.org/wp-content/uploads/2026/04/69eba4ea-0d20-11f1-b0aa-0e5feaddac5b.webp
END:VEVENT
BEGIN:VEVENT
DTSTART;TZID=America/Los_Angeles:20260512T194500
DTEND;TZID=America/Los_Angeles:20260512T194500
DTSTAMP:20260421T061609
CREATED:20260414T221055Z
LAST-MODIFIED:20260414T221055Z
UID:372133-1778615100-1778615100@www.hssv.org
SUMMARY:Control Unleashed (In-Person) - Starting 05/12/26 at 7:45pm
DESCRIPTION:Based on Leslie McDevitt’s acclaimed book series of the same name\, Control Unleashed is a training program for students and dogs who are ready to strengthen their communication and connection around distractions. This is an Intermediate Level class – a Beginning Level class is pre-requisite.
URL:https://www.hssv.org/event/control-unleashed-in-person-starting-05-12-26-at-745pm/
CATEGORIES:Intermediate Classes,Training
ATTACH;FMTTYPE=image/jpeg:https://www.hssv.org/wp-content/uploads/2026/04/bf73b142-c995-11f0-82c6-0affd2a1ca2d-8.jpg
END:VEVENT
BEGIN:VEVENT
DTSTART;TZID=America/Los_Angeles:20260513T181500
DTEND;TZID=America/Los_Angeles:20260513T181500
DTSTAMP:20260421T061609
CREATED:20260408T220521Z
LAST-MODIFIED:20260408T220521Z
UID:370660-1778696100-1778696100@www.hssv.org
SUMMARY:Top Dogs Level 1 (Online Only) - Starting 05/13/26 at 6:15pm
DESCRIPTION:Class Fee: $300. This class is designed specifically for dogs struggling with leash or barrier reactivity. This class will meet for six-weeks\, entirely online through Zoom. Allow your dog to learn in the comfort and calm of their own home\, before practicing skills in the real world.
URL:https://www.hssv.org/event/top-dogs-level-1-online-only-starting-05-13-26-at-615pm/
CATEGORIES:Behavior Management Classes,Training
ATTACH;FMTTYPE=image/jpeg:https://www.hssv.org/wp-content/uploads/2026/04/bf73b142-c995-11f0-82c6-0affd2a1ca2d-7.jpg
END:VEVENT
BEGIN:VEVENT
DTSTART;TZID=America/Los_Angeles:20260514T181500
DTEND;TZID=America/Los_Angeles:20260514T181500
DTSTAMP:20260421T061609
CREATED:20260413T220652Z
LAST-MODIFIED:20260413T220652Z
UID:371895-1778782500-1778782500@www.hssv.org
SUMMARY:Beginning Puppy Training (Hybrid) - Starting 05/14/26 at 6:15pm
DESCRIPTION:Class Fee: $200. This six-week class is open to all puppies 8 weeks to 8 months old. Our goal is to provide a safe\, fun learning environment that will provide you with the knowledge and skills you need to successfully work with your puppy!
URL:https://www.hssv.org/event/beginning-puppy-training-hybrid-starting-05-14-26-at-615pm/
CATEGORIES:Beginning Classes,Training
ATTACH;FMTTYPE=image/webp:https://www.hssv.org/wp-content/uploads/2026/04/97c98aba-ffb2-11f0-951b-0affc2806fdb-3.webp
END:VEVENT
BEGIN:VEVENT
DTSTART;TZID=America/Los_Angeles:20260517T163000
DTEND;TZID=America/Los_Angeles:20260517T163000
DTSTAMP:20260421T061609
CREATED:20260414T223440Z
LAST-MODIFIED:20260414T223440Z
UID:372142-1779035400-1779035400@www.hssv.org
SUMMARY:Canine Good Citizen (In-Person) - Starting 05/17/26 at 4:30pm
DESCRIPTION:Class Fee: $225. The American Kennel Club (AKC) created the Canine Good Citizen (CGC) certification program to reward responsible ownership and canine good manners in the home and community. This is an advanced training class\, with “Beginning” & “Intermediate” pre-requisites required before joining.
URL:https://www.hssv.org/event/canine-good-citizen-in-person-starting-05-17-26-at-430pm/
CATEGORIES:Advanced,Training
ATTACH;FMTTYPE=image/jpeg:https://www.hssv.org/wp-content/uploads/2026/04/81865bda-c98d-11f0-b3bb-0a58a9feac02.jpg
END:VEVENT
END:VCALENDAR