BEGIN:VCALENDAR
VERSION:2.0
PRODID:-//Humane Society Silicon Valley - ECPv6.15.18//NONSGML v1.0//EN
CALSCALE:GREGORIAN
METHOD:PUBLISH
X-WR-CALNAME:Humane Society Silicon Valley
X-ORIGINAL-URL:https://www.hssv.org
X-WR-CALDESC:Events for Humane Society Silicon Valley
REFRESH-INTERVAL;VALUE=DURATION:PT1H
X-Robots-Tag:noindex
X-PUBLISHED-TTL:PT1H
BEGIN:VTIMEZONE
TZID:America/Los_Angeles
BEGIN:DAYLIGHT
TZOFFSETFROM:-0800
TZOFFSETTO:-0700
TZNAME:PDT
DTSTART:20250309T100000
END:DAYLIGHT
BEGIN:STANDARD
TZOFFSETFROM:-0700
TZOFFSETTO:-0800
TZNAME:PST
DTSTART:20251102T090000
END:STANDARD
BEGIN:DAYLIGHT
TZOFFSETFROM:-0800
TZOFFSETTO:-0700
TZNAME:PDT
DTSTART:20260308T100000
END:DAYLIGHT
BEGIN:STANDARD
TZOFFSETFROM:-0700
TZOFFSETTO:-0800
TZNAME:PST
DTSTART:20261101T090000
END:STANDARD
BEGIN:DAYLIGHT
TZOFFSETFROM:-0800
TZOFFSETTO:-0700
TZNAME:PDT
DTSTART:20270314T100000
END:DAYLIGHT
BEGIN:STANDARD
TZOFFSETFROM:-0700
TZOFFSETTO:-0800
TZNAME:PST
DTSTART:20271107T090000
END:STANDARD
END:VTIMEZONE
BEGIN:VEVENT
DTSTART;TZID=America/Los_Angeles:20260420T183000
DTEND;TZID=America/Los_Angeles:20260420T183000
DTSTAMP:20260420T085822
CREATED:20260322T190543Z
LAST-MODIFIED:20260322T192710Z
UID:363383-1776709800-1776709800@www.hssv.org
SUMMARY:The Pain-Behavior Connection in Dogs (Webinar) - 04/20/26 at 6:30pm
DESCRIPTION:Class Fee: $60. This is a single-session webinar that will be held online through Zoom. Learn to make the connection between potential pain\, and the behavioral challenges you’re seeing in your dog. Identifying and treating physical pain can relieve some difficult behaviors in your dog.
URL:https://www.hssv.org/event/the-pain-behavior-connection-in-dogs-webinar-04-20-26-at-630pm/
CATEGORIES:Training,Workshops & Webinars
ATTACH;FMTTYPE=image/webp:https://www.hssv.org/wp-content/uploads/2026/03/4a718ddc-fbcd-11f0-a55a-0a58a9feac02-1.webp
END:VEVENT
BEGIN:VEVENT
DTSTART;TZID=America/Los_Angeles:20260420T194500
DTEND;TZID=America/Los_Angeles:20260420T194500
DTSTAMP:20260420T085822
CREATED:20260401T172610Z
LAST-MODIFIED:20260401T172610Z
UID:366896-1776714300-1776714300@www.hssv.org
SUMMARY:Beginning Puppy Training (Hybrid) - Starting 04/20/26 at 7:45pm
DESCRIPTION:Class Fee: $200. This six-week class is open to all puppies 8 weeks to 8 months old. Our goal is to provide a safe\, fun learning environment that will provide you with the knowledge and skills you need to successfully work with your puppy!
URL:https://www.hssv.org/event/beginning-puppy-training-hybrid-starting-04-20-26-at-745pm/
CATEGORIES:Beginning Classes,Training
ATTACH;FMTTYPE=image/webp:https://www.hssv.org/wp-content/uploads/2026/04/d7e28e08-0d04-11f1-ac70-0a58a9feac02.webp
END:VEVENT
BEGIN:VEVENT
DTSTART;TZID=America/Los_Angeles:20260422T193000
DTEND;TZID=America/Los_Angeles:20260422T193000
DTSTAMP:20260420T085822
CREATED:20260308T220649Z
LAST-MODIFIED:20260407T182311Z
UID:360076-1776886200-1776886200@www.hssv.org
SUMMARY:ALL ONLINE - Beginning Puppy Training - Starting 04/22/26 at 7:30PM
DESCRIPTION:Class Fee: $200. This class is open to all puppies 8 weeks to 8 months old. This is our only puppy class that is held entirely online through Zoom. Great option if you want to join\, but live too far from the shelter\, or if your pup is nervous in the car!
URL:https://www.hssv.org/event/all-online-beginning-puppy-training-starting-04-08-26-at-730pm/
CATEGORIES:Beginning Classes,Training
ATTACH;FMTTYPE=image/jpeg:https://www.hssv.org/wp-content/uploads/2026/03/fe81046c-c1ab-11f0-b580-0a58a9feac02-1.jpg
END:VEVENT
BEGIN:VEVENT
DTSTART;TZID=America/Los_Angeles:20260424T194500
DTEND;TZID=America/Los_Angeles:20260424T194500
DTSTAMP:20260420T085822
CREATED:20260401T173911Z
LAST-MODIFIED:20260401T173911Z
UID:366915-1777059900-1777059900@www.hssv.org
SUMMARY:Beginning Puppy Training (Hybrid) - Starting 04/24/26 at 7:45pm
DESCRIPTION:Class Fee: $200. This six-week class is open to all puppies 8 weeks to 8 months old. Our goal is to provide a safe\, fun learning environment that will provide you with the knowledge and skills you need to successfully work with your puppy!
URL:https://www.hssv.org/event/beginning-puppy-training-hybrid-starting-04-24-26-at-745pm/
CATEGORIES:Beginning Classes,Training
ATTACH;FMTTYPE=image/webp:https://www.hssv.org/wp-content/uploads/2026/04/afab3946-0d02-11f1-804c-0a58a9feac02.webp
END:VEVENT
BEGIN:VEVENT
DTSTART;TZID=America/Los_Angeles:20260426T093000
DTEND;TZID=America/Los_Angeles:20260426T093000
DTSTAMP:20260420T085822
CREATED:20260322T192728Z
LAST-MODIFIED:20260413T180815Z
UID:363410-1777195800-1777195800@www.hssv.org
SUMMARY:Puppy Socialization (In-Person) - Starting 04/26/26 at 9:30am
DESCRIPTION:Class fee: $100. Have a new puppy? This 3-week course offers all the fun and social learning of puppy socials plus more. This class is for puppies who are 18 week or younger. Sorry to the older pups! Allow your pup to socialize in a safe and controlled environment!
URL:https://www.hssv.org/event/puppy-socialization-in-person-starting-04-19-26-at-930am/
CATEGORIES:Beginning Classes,Training
ATTACH;FMTTYPE=image/webp:https://www.hssv.org/wp-content/uploads/2026/03/d1ff1b2a-fd53-11f0-96f7-0e615b1a6bfb-3.webp
END:VEVENT
BEGIN:VEVENT
DTSTART;TZID=America/Los_Angeles:20260426T110000
DTEND;TZID=America/Los_Angeles:20260426T110000
DTSTAMP:20260420T085822
CREATED:20260322T194317Z
LAST-MODIFIED:20260413T182520Z
UID:363416-1777201200-1777201200@www.hssv.org
SUMMARY:Puppy Socialization LEVEL 2 - Older Puppies (In-Person) - Starting 04/26/26 at 11:00am
DESCRIPTION:SOLD OUT! There are currently no registrations remaining for this class.
URL:https://www.hssv.org/event/puppy-socialization-level-2-older-puppies-in-person-starting-04-19-26-at-1100am/
CATEGORIES:Intermediate Classes,Training
ATTACH;FMTTYPE=image/webp:https://www.hssv.org/wp-content/uploads/2026/03/010107fc-fc97-11f0-a7b6-0a58a9feac02-3.webp
END:VEVENT
BEGIN:VEVENT
DTSTART;TZID=America/Los_Angeles:20260426T151500
DTEND;TZID=America/Los_Angeles:20260426T151500
DTSTAMP:20260420T085822
CREATED:20260401T180052Z
LAST-MODIFIED:20260402T005425Z
UID:366932-1777216500-1777216500@www.hssv.org
SUMMARY:Beginning Manners For Dogs (Hybrid) - Starting 04/26/26 at 3:15pm
DESCRIPTION:Class Fee: $200. This class is open to all dogs 5 months and older. Our goal is to provide a safe\, fun learning environment that will provide you with the knowledge and skills you need to successfully work with your dog!
URL:https://www.hssv.org/event/beginning-manners-for-dogs-hybrid-starting-04-26-26-at-315pm/
CATEGORIES:Beginning Classes,Training
ATTACH;FMTTYPE=image/jpeg:https://www.hssv.org/wp-content/uploads/2026/04/bf73b142-c995-11f0-82c6-0affd2a1ca2d-2.jpg
END:VEVENT
BEGIN:VEVENT
DTSTART;TZID=America/Los_Angeles:20260430T170000
DTEND;TZID=America/Los_Angeles:20260430T170000
DTSTAMP:20260420T085822
CREATED:20260406T234732Z
LAST-MODIFIED:20260406T234732Z
UID:370042-1777568400-1777568400@www.hssv.org
SUMMARY:Beginning Puppy Training (Hybrid) - Starting 04/30/26 at 5:00pm
DESCRIPTION:Class Fee: $200. This six-week class is open to all puppies 8 weeks to 8 months old. Our goal is to provide a safe\, fun learning environment that will provide you with the knowledge and skills you need to successfully work with your puppy!
URL:https://www.hssv.org/event/beginning-puppy-training-hybrid-starting-04-30-26-at-500pm/
CATEGORIES:Beginning Classes,Training
ATTACH;FMTTYPE=image/webp:https://www.hssv.org/wp-content/uploads/2026/04/3105fa4c-0d28-11f1-a441-0a58a9feac02.webp
END:VEVENT
BEGIN:VEVENT
DTSTART;TZID=America/Los_Angeles:20260430T180000
DTEND;TZID=America/Los_Angeles:20260430T180000
DTSTAMP:20260420T085822
CREATED:20260408T193224Z
LAST-MODIFIED:20260408T195108Z
UID:370606-1777572000-1777572000@www.hssv.org
SUMMARY:Tricks Training (In-Person) - Starting 04/30/26 at 6:00pm
DESCRIPTION:Class Fee: $225. Tricks are a cheerful\, creative way to keep training fun while helping your dog build focus\, body awareness\, and confidence! This six-week course is for any dog that has taken one of our “Beginning Level” classes at HSSV. No other training is required!
URL:https://www.hssv.org/event/tricks-training-in-person-starting-04-30-26-at-600pm/
CATEGORIES:Advanced Classes,Training
ATTACH;FMTTYPE=image/webp:https://www.hssv.org/wp-content/uploads/2026/04/ce7f67de-3381-11f1-86cc-0a58a9feac02.webp
END:VEVENT
BEGIN:VEVENT
DTSTART;TZID=America/Los_Angeles:20260430T193000
DTEND;TZID=America/Los_Angeles:20260430T193000
DTSTAMP:20260420T085822
CREATED:20260407T000400Z
LAST-MODIFIED:20260407T000400Z
UID:370049-1777577400-1777577400@www.hssv.org
SUMMARY:Beginning Manners For Dogs (Hybrid) - Starting 04/30/26 at 7:30pm
DESCRIPTION:Class Fee: $200. This class is open to all dogs 5 months and older. Our goal is to provide a safe\, fun learning environment that will provide you with the knowledge and skills you need to successfully work with your dog!
URL:https://www.hssv.org/event/beginning-manners-for-dogs-hybrid-starting-04-30-26-at-730pm/
CATEGORIES:Beginning Classes,Training
ATTACH;FMTTYPE=image/jpeg:https://www.hssv.org/wp-content/uploads/2026/04/bf73b142-c995-11f0-82c6-0affd2a1ca2d-6.jpg
END:VEVENT
END:VCALENDAR