BEGIN:VCALENDAR
VERSION:2.0
PRODID:-//Humane Society Silicon Valley - ECPv6.15.18//NONSGML v1.0//EN
CALSCALE:GREGORIAN
METHOD:PUBLISH
X-WR-CALNAME:Humane Society Silicon Valley
X-ORIGINAL-URL:https://www.hssv.org
X-WR-CALDESC:Events for Humane Society Silicon Valley
REFRESH-INTERVAL;VALUE=DURATION:PT1H
X-Robots-Tag:noindex
X-PUBLISHED-TTL:PT1H
BEGIN:VTIMEZONE
TZID:America/Los_Angeles
BEGIN:DAYLIGHT
TZOFFSETFROM:-0800
TZOFFSETTO:-0700
TZNAME:PDT
DTSTART:20250309T100000
END:DAYLIGHT
BEGIN:STANDARD
TZOFFSETFROM:-0700
TZOFFSETTO:-0800
TZNAME:PST
DTSTART:20251102T090000
END:STANDARD
BEGIN:DAYLIGHT
TZOFFSETFROM:-0800
TZOFFSETTO:-0700
TZNAME:PDT
DTSTART:20260308T100000
END:DAYLIGHT
BEGIN:STANDARD
TZOFFSETFROM:-0700
TZOFFSETTO:-0800
TZNAME:PST
DTSTART:20261101T090000
END:STANDARD
BEGIN:DAYLIGHT
TZOFFSETFROM:-0800
TZOFFSETTO:-0700
TZNAME:PDT
DTSTART:20270314T100000
END:DAYLIGHT
BEGIN:STANDARD
TZOFFSETFROM:-0700
TZOFFSETTO:-0800
TZNAME:PST
DTSTART:20271107T090000
END:STANDARD
END:VTIMEZONE
BEGIN:VEVENT
DTSTART;TZID=America/Los_Angeles:20260402T191500
DTEND;TZID=America/Los_Angeles:20260402T191500
DTSTAMP:20260424T025412
CREATED:20260403T233213Z
LAST-MODIFIED:20260403T233213Z
UID:368728-1775157300-1775157300@www.hssv.org
SUMMARY:Mastering Scentwork: Lost Item Recovery (In-Person) - Starting 04/02/26 at 7:15pm
DESCRIPTION:Class Fee: $225. If your pup likes to use their nose\, and you want to develop that part of the brain more\, then this Nose Work class is for you! This six-week course is for any dog that has taken one of our “Beginning Level” classes at HSSV. No other training is required!
URL:https://www.hssv.org/event/mastering-scentwork-lost-item-recovery-in-person-starting-04-02-26-at-715pm-3/
CATEGORIES:Advanced Classes,Training
ATTACH;FMTTYPE=image/webp:https://www.hssv.org/wp-content/uploads/2026/04/a63043ec-1c0d-11f1-9ee4-0affc8d4abf1-2.webp
END:VEVENT
BEGIN:VEVENT
DTSTART;TZID=America/Los_Angeles:20260411T103000
DTEND;TZID=America/Los_Angeles:20260411T103000
DTSTAMP:20260424T025412
CREATED:20260316T215245Z
LAST-MODIFIED:20260403T215100Z
UID:361878-1775903400-1775903400@www.hssv.org
SUMMARY:Recreational Agility-1 (In-Person) - Starting 04/11/26 at 10:30am
DESCRIPTION:Class Fee: $225. Your dog doesn’t have to be a super athlete to love Agility! If you’ve already completed the necessary pre-requisites\, then we’d love to have you give Agility a try. This sport gets the mind and body engaged by learning to run the Agility course. For dogs 1 year and older.
URL:https://www.hssv.org/event/recreational-agility-1-in-person-starting-04-04-26-at-1030am/
CATEGORIES:Advanced Classes,Training
ATTACH;FMTTYPE=image/webp:https://www.hssv.org/wp-content/uploads/2026/03/622ef43a-2181-11f1-b7d1-0afff1d47831-1.webp
END:VEVENT
BEGIN:VEVENT
DTSTART;TZID=America/Los_Angeles:20260411T103000
DTEND;TZID=America/Los_Angeles:20260411T103000
DTSTAMP:20260424T025412
CREATED:20260411T193438Z
LAST-MODIFIED:20260411T193438Z
UID:371472-1775903400-1775903400@www.hssv.org
SUMMARY:Recreational Agility-1 (In-Person) - Starting 04/11/26 at 10:30am
DESCRIPTION:Class Fee: $225. Your dog doesn’t have to be a super athlete to love Agility! If you’ve already completed the necessary pre-requisites\, then we’d love to have you give Agility a try. This sport gets the mind and body engaged by learning to run the Agility course. For dogs 1 year and older.
URL:https://www.hssv.org/event/recreational-agility-1-in-person-starting-04-11-26-at-1030am/
CATEGORIES:Advanced Classes,Training
ATTACH;FMTTYPE=image/webp:https://www.hssv.org/wp-content/uploads/2026/04/622ef43a-2181-11f1-b7d1-0afff1d47831.webp
END:VEVENT
BEGIN:VEVENT
DTSTART;TZID=America/Los_Angeles:20260411T103000
DTEND;TZID=America/Los_Angeles:20260411T103000
DTSTAMP:20260424T025412
CREATED:20260411T193824Z
LAST-MODIFIED:20260411T193824Z
UID:371474-1775903400-1775903400@www.hssv.org
SUMMARY:Recreational Agility-1 (In-Person) - Starting 04/11/26 at 10:30am
DESCRIPTION:Class Fee: $225. Your dog doesn’t have to be a super athlete to love Agility! If you’ve already completed the necessary pre-requisites\, then we’d love to have you give Agility a try. This sport gets the mind and body engaged by learning to run the Agility course. For dogs 1 year and older.
URL:https://www.hssv.org/event/recreational-agility-1-in-person-starting-04-11-26-at-1030am-2/
CATEGORIES:Advanced Classes,Training
ATTACH;FMTTYPE=image/webp:https://www.hssv.org/wp-content/uploads/2026/04/622ef43a-2181-11f1-b7d1-0afff1d47831-1.webp
END:VEVENT
BEGIN:VEVENT
DTSTART;TZID=America/Los_Angeles:20260411T103000
DTEND;TZID=America/Los_Angeles:20260411T103000
DTSTAMP:20260424T025412
CREATED:20260411T233040Z
LAST-MODIFIED:20260411T233040Z
UID:371556-1775903400-1775903400@www.hssv.org
SUMMARY:Recreational Agility-1 (In-Person) - Starting 04/11/26 at 10:30am
DESCRIPTION:Class Fee: $225. Your dog doesn’t have to be a super athlete to love Agility! If you’ve already completed the necessary pre-requisites\, then we’d love to have you give Agility a try. This sport gets the mind and body engaged by learning to run the Agility course. For dogs 1 year and older.
URL:https://www.hssv.org/event/recreational-agility-1-in-person-starting-04-11-26-at-1030am-3/
CATEGORIES:Advanced Classes,Training
ATTACH;FMTTYPE=image/webp:https://www.hssv.org/wp-content/uploads/2026/04/622ef43a-2181-11f1-b7d1-0afff1d47831-2.webp
END:VEVENT
BEGIN:VEVENT
DTSTART;TZID=America/Los_Angeles:20260430T180000
DTEND;TZID=America/Los_Angeles:20260430T180000
DTSTAMP:20260424T025412
CREATED:20260408T193224Z
LAST-MODIFIED:20260408T195108Z
UID:370606-1777572000-1777572000@www.hssv.org
SUMMARY:Tricks Training (In-Person) - Starting 04/30/26 at 6:00pm
DESCRIPTION:Class Fee: $225. Tricks are a cheerful\, creative way to keep training fun while helping your dog build focus\, body awareness\, and confidence! This six-week course is for any dog that has taken one of our “Beginning Level” classes at HSSV. No other training is required!
URL:https://www.hssv.org/event/tricks-training-in-person-starting-04-30-26-at-600pm/
CATEGORIES:Advanced Classes,Training
ATTACH;FMTTYPE=image/webp:https://www.hssv.org/wp-content/uploads/2026/04/ce7f67de-3381-11f1-86cc-0a58a9feac02.webp
END:VEVENT
BEGIN:VEVENT
DTSTART;TZID=America/Los_Angeles:20260521T191500
DTEND;TZID=America/Los_Angeles:20260521T191500
DTSTAMP:20260424T025412
CREATED:20260421T233142Z
LAST-MODIFIED:20260421T233142Z
UID:377309-1779390900-1779390900@www.hssv.org
SUMMARY:Mastering Scentwork: Lost Item Recovery (In-Person) - Starting 05/21/26 at 7:15pm
DESCRIPTION:Class Fee: $225. If your pup likes to use their nose\, and you want to develop that part of the brain more\, then this Nose Work class is for you! This six-week course is for any dog that has taken one of our “Beginning Level” classes at HSSV. No other training is required!
URL:https://www.hssv.org/event/mastering-scentwork-lost-item-recovery-in-person-starting-05-21-26-at-715pm/
CATEGORIES:Advanced Classes,Training
ATTACH;FMTTYPE=image/webp:https://www.hssv.org/wp-content/uploads/2026/04/a63043ec-1c0d-11f1-9ee4-0affc8d4abf1-4.webp
END:VEVENT
END:VCALENDAR