BEGIN:VCALENDAR
VERSION:2.0
PRODID:-//Humane Society Silicon Valley - ECPv6.15.18//NONSGML v1.0//EN
CALSCALE:GREGORIAN
METHOD:PUBLISH
X-WR-CALNAME:Humane Society Silicon Valley
X-ORIGINAL-URL:https://www.hssv.org
X-WR-CALDESC:Events for Humane Society Silicon Valley
REFRESH-INTERVAL;VALUE=DURATION:PT1H
X-Robots-Tag:noindex
X-PUBLISHED-TTL:PT1H
BEGIN:VTIMEZONE
TZID:America/Los_Angeles
BEGIN:DAYLIGHT
TZOFFSETFROM:-0800
TZOFFSETTO:-0700
TZNAME:PDT
DTSTART:20250309T100000
END:DAYLIGHT
BEGIN:STANDARD
TZOFFSETFROM:-0700
TZOFFSETTO:-0800
TZNAME:PST
DTSTART:20251102T090000
END:STANDARD
BEGIN:DAYLIGHT
TZOFFSETFROM:-0800
TZOFFSETTO:-0700
TZNAME:PDT
DTSTART:20260308T100000
END:DAYLIGHT
BEGIN:STANDARD
TZOFFSETFROM:-0700
TZOFFSETTO:-0800
TZNAME:PST
DTSTART:20261101T090000
END:STANDARD
BEGIN:DAYLIGHT
TZOFFSETFROM:-0800
TZOFFSETTO:-0700
TZNAME:PDT
DTSTART:20270314T100000
END:DAYLIGHT
BEGIN:STANDARD
TZOFFSETFROM:-0700
TZOFFSETTO:-0800
TZNAME:PST
DTSTART:20271107T090000
END:STANDARD
END:VTIMEZONE
BEGIN:VEVENT
DTSTART;TZID=America/Los_Angeles:20260408T173000
DTEND;TZID=America/Los_Angeles:20260408T173000
DTSTAMP:20260421T033835
CREATED:20260409T233149Z
LAST-MODIFIED:20260409T233149Z
UID:370988-1775669400-1775669400@www.hssv.org
SUMMARY:Continuing Recreational Agility (In-Person) - Starting 04/08/26 at 5:30pm
DESCRIPTION:Class Fee: $225. This is a six-week Advanced Level course for our experienced agility dogs who are looking to continue practicing and honing their agility skills. This class is only for dogs who have taken Agility with us at HSSV previously\, or have approval from the trainer.
URL:https://www.hssv.org/event/continuing-recreational-agility-in-person-starting-04-08-26-at-530pm-3/
CATEGORIES:Advanced Class,Training
ATTACH;FMTTYPE=image/webp:https://www.hssv.org/wp-content/uploads/2026/04/a4c66a34-18f4-11f1-b4c1-0ee09b04b3b1-2.webp
END:VEVENT
BEGIN:VEVENT
DTSTART;TZID=America/Los_Angeles:20260408T173000
DTEND;TZID=America/Los_Angeles:20260408T173000
DTSTAMP:20260421T033835
CREATED:20260409T193050Z
LAST-MODIFIED:20260409T193050Z
UID:370916-1775669400-1775669400@www.hssv.org
SUMMARY:Continuing Recreational Agility (In-Person) - Starting 04/08/26 at 5:30pm
DESCRIPTION:Class Fee: $225. This is a six-week Advanced Level course for our experienced agility dogs who are looking to continue practicing and honing their agility skills. This class is only for dogs who have taken Agility with us at HSSV previously\, or have approval from the trainer.
URL:https://www.hssv.org/event/continuing-recreational-agility-in-person-starting-04-08-26-at-530pm-2/
CATEGORIES:Advanced Class,Training
ATTACH;FMTTYPE=image/webp:https://www.hssv.org/wp-content/uploads/2026/04/a4c66a34-18f4-11f1-b4c1-0ee09b04b3b1-1.webp
END:VEVENT
BEGIN:VEVENT
DTSTART;TZID=America/Los_Angeles:20260408T173000
DTEND;TZID=America/Los_Angeles:20260408T173000
DTSTAMP:20260421T033835
CREATED:20260409T150148Z
LAST-MODIFIED:20260409T150148Z
UID:370734-1775669400-1775669400@www.hssv.org
SUMMARY:Continuing Recreational Agility (In-Person) - Starting 04/08/26 at 5:30pm
DESCRIPTION:Class Fee: $225. This is a six-week Advanced Level course for our experienced agility dogs who are looking to continue practicing and honing their agility skills. This class is only for dogs who have taken Agility with us at HSSV previously\, or have approval from the trainer.
URL:https://www.hssv.org/event/continuing-recreational-agility-in-person-starting-04-08-26-at-530pm/
CATEGORIES:Advanced Class,Training
ATTACH;FMTTYPE=image/webp:https://www.hssv.org/wp-content/uploads/2026/04/a4c66a34-18f4-11f1-b4c1-0ee09b04b3b1.webp
END:VEVENT
BEGIN:VEVENT
DTSTART;TZID=America/Los_Angeles:20260408T173000
DTEND;TZID=America/Los_Angeles:20260408T173000
DTSTAMP:20260421T033835
CREATED:20260306T004112Z
LAST-MODIFIED:20260318T200911Z
UID:359497-1775669400-1775669400@www.hssv.org
SUMMARY:Continuing Recreational Agility (In-Person) - Starting 04/08/26 at 5:30pm
DESCRIPTION:Class Fee: $225. This is a six-week Advanced Level course for our experienced agility dogs who are looking to continue practicing and honing their agility skills. This class is only for dogs who have taken Agility with us at HSSV previously\, or have approval from the trainer.
URL:https://www.hssv.org/event/continuing-recreational-agility-in-person-starting-03-25-26-at-530pm/
CATEGORIES:Advanced Class,Training
ATTACH;FMTTYPE=image/webp:https://www.hssv.org/wp-content/uploads/2026/03/a4c66a34-18f4-11f1-b4c1-0ee09b04b3b1-1.webp
END:VEVENT
BEGIN:VEVENT
DTSTART;TZID=America/Los_Angeles:20260404T091500
DTEND;TZID=America/Los_Angeles:20260404T091500
DTSTAMP:20260421T033835
CREATED:20260404T233121Z
LAST-MODIFIED:20260404T233121Z
UID:369580-1775294100-1775294100@www.hssv.org
SUMMARY:Continuing Recreational Agility (In-Person) - Starting 04/04/26 at 9:15am
DESCRIPTION:SOLD OUT! There are currently no registrations remaining for this class.
URL:https://www.hssv.org/event/continuing-recreational-agility-in-person-starting-04-04-26-at-915am-3/
CATEGORIES:Advanced Class,Training
ATTACH;FMTTYPE=image/webp:https://www.hssv.org/wp-content/uploads/2026/04/475a8242-1c12-11f1-aa59-0affc8d4abf1-1.webp
END:VEVENT
BEGIN:VEVENT
DTSTART;TZID=America/Los_Angeles:20260404T091500
DTEND;TZID=America/Los_Angeles:20260404T091500
DTSTAMP:20260421T033835
CREATED:20260404T193354Z
LAST-MODIFIED:20260404T193354Z
UID:369547-1775294100-1775294100@www.hssv.org
SUMMARY:Continuing Recreational Agility (In-Person) - Starting 04/04/26 at 9:15am
DESCRIPTION:SOLD OUT! There are currently no registrations remaining for this class.
URL:https://www.hssv.org/event/continuing-recreational-agility-in-person-starting-04-04-26-at-915am-2/
CATEGORIES:Advanced Class,Training
ATTACH;FMTTYPE=image/webp:https://www.hssv.org/wp-content/uploads/2026/04/475a8242-1c12-11f1-aa59-0affc8d4abf1.webp
END:VEVENT
BEGIN:VEVENT
DTSTART;TZID=America/Los_Angeles:20260404T091500
DTEND;TZID=America/Los_Angeles:20260404T091500
DTSTAMP:20260421T033835
CREATED:20260309T235035Z
LAST-MODIFIED:20260401T162113Z
UID:360217-1775294100-1775294100@www.hssv.org
SUMMARY:Continuing Recreational Agility (In-Person) - Starting 04/04/26 at 9:15am
DESCRIPTION:SOLD OUT! There are currently no registrations remaining for this class.
URL:https://www.hssv.org/event/continuing-recreational-agility-in-person-starting-04-04-26-at-915am/
CATEGORIES:Advanced Class,Training
ATTACH;FMTTYPE=image/webp:https://www.hssv.org/wp-content/uploads/2026/03/475a8242-1c12-11f1-aa59-0affc8d4abf1-1.webp
END:VEVENT
BEGIN:VEVENT
DTSTART;TZID=America/Los_Angeles:20260214T103000
DTEND;TZID=America/Los_Angeles:20260214T103000
DTSTAMP:20260421T033835
CREATED:20260214T203138Z
LAST-MODIFIED:20260214T203138Z
UID:343740-1771065000-1771065000@www.hssv.org
SUMMARY:Recreational Agility-3 (In-Person) - Starting 02/14/26 at 10:30am
DESCRIPTION:Class Fee: $225. This is a six-week Advanced Level course for our experienced agility dogs who are looking to continue practicing and honing their agility skills before graduating into Continuing Agility. This class is only for dogs who have taken both Agility-1 and Agility-2 already.
URL:https://www.hssv.org/event/recreational-agility-3-in-person-starting-02-14-26-at-1030am-2/
CATEGORIES:Advanced Class,Training
ATTACH;FMTTYPE=image/jpeg:https://www.hssv.org/wp-content/uploads/2026/02/9073b222-c71d-11f0-b588-0e9789a72a65-2.jpg
END:VEVENT
BEGIN:VEVENT
DTSTART;TZID=America/Los_Angeles:20260214T103000
DTEND;TZID=America/Los_Angeles:20260214T103000
DTSTAMP:20260421T033835
CREATED:20260124T160303Z
LAST-MODIFIED:20260124T160303Z
UID:338897-1771065000-1771065000@www.hssv.org
SUMMARY:Recreational Agility-3 (In-Person) - Starting 02/14/26 at 10:30am
DESCRIPTION:Class Fee: $225. This is a six-week Advanced Level course for our experienced agility dogs who are looking to continue practicing and honing their agility skills before graduating into Continuing Agility. This class is only for dogs who have taken both Agility-1 and Agility-2 already.
URL:https://www.hssv.org/event/recreational-agility-3-in-person-starting-02-14-26-at-1030am/
CATEGORIES:Advanced Class,Training
ATTACH;FMTTYPE=image/jpeg:https://www.hssv.org/wp-content/uploads/2026/01/9073b222-c71d-11f0-b588-0e9789a72a65-5.jpg
END:VEVENT
BEGIN:VEVENT
DTSTART;TZID=America/Los_Angeles:20260214T091500
DTEND;TZID=America/Los_Angeles:20260214T091500
DTSTAMP:20260421T033835
CREATED:20260214T203141Z
LAST-MODIFIED:20260214T203141Z
UID:343742-1771060500-1771060500@www.hssv.org
SUMMARY:Continuing Recreational Agility (In-Person) - Starting 02/14/26 at 9:15am
DESCRIPTION:SOLD OUT! There are currently no registrations remaining for this class.
URL:https://www.hssv.org/event/continuing-recreational-agility-in-person-starting-02-14-26-at-915am-2/
CATEGORIES:Advanced Class,Training
ATTACH;FMTTYPE=image/jpeg:https://www.hssv.org/wp-content/uploads/2026/02/9073b222-c71d-11f0-b588-0e9789a72a65-3.jpg
END:VEVENT
BEGIN:VEVENT
DTSTART;TZID=America/Los_Angeles:20260214T091500
DTEND;TZID=America/Los_Angeles:20260214T091500
DTSTAMP:20260421T033835
CREATED:20260124T160306Z
LAST-MODIFIED:20260209T181523Z
UID:338899-1771060500-1771060500@www.hssv.org
SUMMARY:Continuing Recreational Agility (In-Person) - Starting 02/14/26 at 9:15am
DESCRIPTION:SOLD OUT! There are currently no registrations remaining for this class.
URL:https://www.hssv.org/event/continuing-recreational-agility-in-person-starting-02-14-26-at-915am/
CATEGORIES:Advanced Class,Training
ATTACH;FMTTYPE=image/jpeg:https://www.hssv.org/wp-content/uploads/2026/01/9073b222-c71d-11f0-b588-0e9789a72a65-12.jpg
END:VEVENT
BEGIN:VEVENT
DTSTART;TZID=America/Los_Angeles:20260128T173000
DTEND;TZID=America/Los_Angeles:20260128T193000
DTSTAMP:20260421T033835
CREATED:20260115T081332Z
LAST-MODIFIED:20260115T081332Z
UID:336947-1769621400-1769628600@www.hssv.org
SUMMARY:Continuing Recreational Agility (In-Person) - Starting 01/28/26 at 5:30pm
DESCRIPTION:Class Fee: $225. This is a six-week Advanced Level course for our experienced agility dogs who are looking to continue practicing and honing their agility skills. This class is only for dogs who have taken agility with us at HSSV previously\, or have approval from the trainer.
URL:https://www.hssv.org/event/continuing-recreational-agility-in-person-starting-01-28-26-at-530pm/
CATEGORIES:Advanced Class,Training
ATTACH;FMTTYPE=image/jpeg:https://www.hssv.org/wp-content/uploads/2026/01/9073b222-c71d-11f0-b588-0e9789a72a65-3.jpg
END:VEVENT
BEGIN:VEVENT
DTSTART;TZID=America/Los_Angeles:20260128T173000
DTEND;TZID=America/Los_Angeles:20260128T173000
DTSTAMP:20260421T033835
CREATED:20260129T203239Z
LAST-MODIFIED:20260129T203239Z
UID:339829-1769621400-1769621400@www.hssv.org
SUMMARY:Continuing Recreational Agility (In-Person) - Starting 01/28/26 at 5:30pm
DESCRIPTION:Class Fee: $225. This is a six-week Advanced Level course for our experienced agility dogs who are looking to continue practicing and honing their agility skills. This class is only for dogs who have taken agility with us at HSSV previously\, or have approval from the trainer.
URL:https://www.hssv.org/event/continuing-recreational-agility-in-person-starting-01-28-26-at-530pm-3/
CATEGORIES:Advanced Class,Training
ATTACH;FMTTYPE=image/jpeg:https://www.hssv.org/wp-content/uploads/2026/01/9073b222-c71d-11f0-b588-0e9789a72a65-9.jpg
END:VEVENT
BEGIN:VEVENT
DTSTART;TZID=America/Los_Angeles:20260128T173000
DTEND;TZID=America/Los_Angeles:20260128T173000
DTSTAMP:20260421T033835
CREATED:20260129T160117Z
LAST-MODIFIED:20260129T160117Z
UID:339765-1769621400-1769621400@www.hssv.org
SUMMARY:Continuing Recreational Agility (In-Person) - Starting 01/28/26 at 5:30pm
DESCRIPTION:Class Fee: $225. This is a six-week Advanced Level course for our experienced agility dogs who are looking to continue practicing and honing their agility skills. This class is only for dogs who have taken agility with us at HSSV previously\, or have approval from the trainer.
URL:https://www.hssv.org/event/continuing-recreational-agility-in-person-starting-01-28-26-at-530pm-2/
CATEGORIES:Advanced Class,Training
ATTACH;FMTTYPE=image/jpeg:https://www.hssv.org/wp-content/uploads/2026/01/9073b222-c71d-11f0-b588-0e9789a72a65-8.jpg
END:VEVENT
END:VCALENDAR